BEGIN:VCALENDAR
VERSION:2.0
PRODID:-//AMSE//Event Calendar//FR
CALSCALE:GREGORIAN
METHOD:PUBLISH
BEGIN:VEVENT
UID:event-9434@amse-aixmarseille.fr
DTSTAMP:20260420T152510Z
CREATED:20260420T152510Z
LAST-MODIFIED:20260420T152510Z
STATUS:CONFIRMED
SEQUENCE:0
SUMMARY:amse seminar - Alessandra Casarico
DTSTART:20230403T093000Z
DTEND:20230403T104500Z
DESCRIPTION:\\n\\nContact: Ewen Gallic: ewen.gallic[at]univ-amu.frAvner Ser
 or: avner.seror[at]univ-amu.fr\n\nPlus d'informations: https://amse-aixmar
 seille.fr/en/events/alessandra-casarico-0
LOCATION:Îlot Bernard du Bois - Amphithéâtre\, AMU - AMSE\, 5-9 boulevar
 d Maurice Bourdet\, 13001 Marseille
URL;VALUE=URI:https://amse-aixmarseille.fr/en/events/alessandra-casarico-0
CONTACT:Ewen Gallic: ewen.gallic[at]univ-amu.frAvner Seror:&nbsp\;avner.ser
 or[at]univ-amu.fr
TRANSP:OPAQUE
END:VEVENT
END:VCALENDAR
